BEGIN:VCALENDAR
VERSION:2.0
PRODID:-//Abisolo - ECPv6.15.19//NONSGML v1.0//EN
CALSCALE:GREGORIAN
METHOD:PUBLISH
X-WR-CALNAME:Abisolo
X-ORIGINAL-URL:https://www.abisolo.com.br
X-WR-CALDESC:Eventos para Abisolo
REFRESH-INTERVAL;VALUE=DURATION:PT1H
X-Robots-Tag:noindex
X-PUBLISHED-TTL:PT1H
BEGIN:VTIMEZONE
TZID:America/Sao_Paulo
BEGIN:STANDARD
TZOFFSETFROM:-0300
TZOFFSETTO:-0300
TZNAME:-03
DTSTART:20250101T000000
END:STANDARD
END:VTIMEZONE
BEGIN:VEVENT
DTSTART;TZID=America/Sao_Paulo:20260505T080000
DTEND;TZID=America/Sao_Paulo:20260505T180000
DTSTAMP:20260420T095916
CREATED:20260310T185450Z
LAST-MODIFIED:20260310T185450Z
UID:29753-1777968000-1778004000@www.abisolo.com.br
SUMMARY:ALAGRO SUMMIT 2026
DESCRIPTION:‘+contents+’
URL:https://www.abisolo.com.br/eventos/alagro-summit-2026/
LOCATION:Parque da Expoflora\, Alameda Maurício de Nasau\, 675\, Holambra\, São Paulo\, 13825-000
END:VEVENT
BEGIN:VEVENT
DTSTART;TZID=America/Sao_Paulo:20260910T000000
DTEND;TZID=America/Sao_Paulo:20260910T235959
DTSTAMP:20260420T095916
CREATED:20260310T185556Z
LAST-MODIFIED:20260310T185556Z
UID:29755-1788998400-1789084799@www.abisolo.com.br
SUMMARY:Simpósio Correção do Perfil de Solo
DESCRIPTION:‘+contents+’
URL:https://www.abisolo.com.br/eventos/simposio-correcao-do-perfil-de-solo/
LOCATION:Parque da Expoflora\, Alameda Maurício de Nasau\, 675\, Holambra\, São Paulo\, 13825-000
END:VEVENT
BEGIN:VEVENT
DTSTART;TZID=America/Sao_Paulo:20261028T080000
DTEND;TZID=America/Sao_Paulo:20261029T190000
DTSTAMP:20260420T095916
CREATED:20260401T174300Z
LAST-MODIFIED:20260401T174300Z
UID:29808-1793174400-1793300400@www.abisolo.com.br
SUMMARY:CNMA - Congresso Nacional Mulheres no Agro
DESCRIPTION:Participe da 11ª edição do Congresso Nacional das Mulheres do Agronegócio\, a maior comunidade de liderança feminina do agro no mundo. \nEste ano\, o tema "Nutrientes para a Vida. Saúde para o Planeta" conectará a ciência do solo ao sucesso dos negócios\, colocando você no epicentro das decisões que moldam o futuro do agro e a saúde do planeta\, com acesso a conteúdo relevante\, networking estratégico e discussões que impactam todo o setor. \nComo associado ABISOLO você garante 10% de desconto usando o código ABISOLO10. \n\n 
URL:https://www.abisolo.com.br/eventos/cnma-congresso-nacional-mulheres-no-agro/
LOCATION:Transamerica Expo Center
ATTACH;FMTTYPE=image/jpeg:https://www.abisolo.com.br/wp-content/uploads/2026/04/img_69cd5920a3c10-ry32dC.jpg
END:VEVENT
END:VCALENDAR